BEGIN:VCALENDAR
VERSION:2.0
PRODID:-//Deer Island Country Club - ECPv6.15.18//NONSGML v1.0//EN
CALSCALE:GREGORIAN
METHOD:PUBLISH
X-WR-CALNAME:Deer Island Country Club
X-ORIGINAL-URL:https://www.deerislandcc.com
X-WR-CALDESC:Events for Deer Island Country Club
REFRESH-INTERVAL;VALUE=DURATION:PT1H
X-Robots-Tag:noindex
X-PUBLISHED-TTL:PT1H
BEGIN:VTIMEZONE
TZID:America/New_York
BEGIN:DAYLIGHT
TZOFFSETFROM:-0500
TZOFFSETTO:-0400
TZNAME:EDT
DTSTART:20240310T070000
END:DAYLIGHT
BEGIN:STANDARD
TZOFFSETFROM:-0400
TZOFFSETTO:-0500
TZNAME:EST
DTSTART:20241103T060000
END:STANDARD
BEGIN:DAYLIGHT
TZOFFSETFROM:-0500
TZOFFSETTO:-0400
TZNAME:EDT
DTSTART:20250309T070000
END:DAYLIGHT
BEGIN:STANDARD
TZOFFSETFROM:-0400
TZOFFSETTO:-0500
TZNAME:EST
DTSTART:20251102T060000
END:STANDARD
BEGIN:DAYLIGHT
TZOFFSETFROM:-0500
TZOFFSETTO:-0400
TZNAME:EDT
DTSTART:20260308T070000
END:DAYLIGHT
BEGIN:STANDARD
TZOFFSETFROM:-0400
TZOFFSETTO:-0500
TZNAME:EST
DTSTART:20261101T060000
END:STANDARD
END:VTIMEZONE
BEGIN:VEVENT
DTSTART;TZID=America/New_York:20251129T110000
DTEND;TZID=America/New_York:20251129T200000
DTSTAMP:20260423T124617
CREATED:20251124T203947Z
LAST-MODIFIED:20251124T215009Z
UID:10001608-1764414000-1764446400@www.deerislandcc.com
SUMMARY:🏈 Football Specials
DESCRIPTION:Catch all the action and enjoy game day eats and drinks with our Saturday Football Specials: \n– Half-off select appetizers\n– $10 12” cheese pizzas\n– $2.50 domestic draft beers \nBring your friends\, cheer on your team\, and fuel your Saturday with great food\, cold drinks\, and football at 19th Wave!
URL:https://www.deerislandcc.com/event/football-specials/2025-11-29/
LOCATION:19th Wave Restaurant\, 18000 Eagles Way\, Tavares\, FL\, 32778\, United States
END:VEVENT
BEGIN:VEVENT
DTSTART;TZID=America/New_York:20251128T160000
DTEND;TZID=America/New_York:20251128T200000
DTSTAMP:20260423T124617
CREATED:20251124T201814Z
LAST-MODIFIED:20251124T201814Z
UID:10000538-1764345600-1764360000@www.deerislandcc.com
SUMMARY:🍻 Happy Hour
DESCRIPTION:Kick off the weekend with unbeatable drink and food specials! Enjoy:• $2.25 draft beer• $4 house wine• Discounted appetizers• And more great deals all evening long! \nRelax\, unwind\, and start your Friday the right way at 19th Wave—great drinks\, great food\, great vibes.
URL:https://www.deerislandcc.com/event/%f0%9f%8d%bb-happy-hour/2025-11-28/
LOCATION:19th Wave Restaurant\, 18000 Eagles Way\, Tavares\, FL\, 32778\, United States
END:VEVENT
BEGIN:VEVENT
DTSTART;TZID=America/New_York:20251126T170000
DTEND;TZID=America/New_York:20251126T210000
DTSTAMP:20260423T124617
CREATED:20251124T190229Z
LAST-MODIFIED:20251124T190300Z
UID:10000001-1764176400-1764190800@www.deerislandcc.com
SUMMARY:Thanksgiving Potluck Party
DESCRIPTION:Join us for the Deer Island Thanksgiving Potluck at 19th Wave Restaurant. We will provide the turkey & ham\, and we encourage you to bring your favorite side dish to share! Enjoy the DJ\, drink specials\, and a fun\, free night with your Deer Island neighbors.
URL:https://www.deerislandcc.com/event/thanksgiving-potluck-party/
LOCATION:19th Wave Restaurant\, 18000 Eagles Way\, Tavares\, FL\, 32778\, United States
END:VEVENT
BEGIN:VEVENT
DTSTART;TZID=America/New_York:20251125T160000
DTEND;TZID=America/New_York:20251125T200000
DTSTAMP:20260423T124617
CREATED:20251124T201352Z
LAST-MODIFIED:20251124T201451Z
UID:10000017-1764086400-1764100800@www.deerislandcc.com
SUMMARY:🌮 Taco Tuesday
DESCRIPTION:Join us every Tuesday for the best midweek fiesta around! Enjoy 3 delicious tacos for just $13.98\, or a la carte for $5 each. Craving something lighter? Try our fresh and flavorful Tostada Salad for $15.98. \nAnd because no Taco Tuesday is complete without a drink…Enjoy a FREE margarita with any taco entrée purchase! 🍹 \nBring your friends\, bring your appetite\, and make Tuesday your tastiest day of the week!
URL:https://www.deerislandcc.com/event/taco-tuesday/2025-11-25/
LOCATION:19th Wave Restaurant\, 18000 Eagles Way\, Tavares\, FL\, 32778\, United States
END:VEVENT
END:VCALENDAR