BEGIN:VCALENDAR
VERSION:2.0
PRODID:-//Deer Island Country Club - ECPv6.15.18//NONSGML v1.0//EN
CALSCALE:GREGORIAN
METHOD:PUBLISH
X-WR-CALNAME:Deer Island Country Club
X-ORIGINAL-URL:https://www.deerislandcc.com
X-WR-CALDESC:Events for Deer Island Country Club
REFRESH-INTERVAL;VALUE=DURATION:PT1H
X-Robots-Tag:noindex
X-PUBLISHED-TTL:PT1H
BEGIN:VTIMEZONE
TZID:America/New_York
BEGIN:DAYLIGHT
TZOFFSETFROM:-0500
TZOFFSETTO:-0400
TZNAME:EDT
DTSTART:20260308T070000
END:DAYLIGHT
BEGIN:STANDARD
TZOFFSETFROM:-0400
TZOFFSETTO:-0500
TZNAME:EST
DTSTART:20261101T060000
END:STANDARD
BEGIN:DAYLIGHT
TZOFFSETFROM:-0500
TZOFFSETTO:-0400
TZNAME:EDT
DTSTART:20270314T070000
END:DAYLIGHT
BEGIN:STANDARD
TZOFFSETFROM:-0400
TZOFFSETTO:-0500
TZNAME:EST
DTSTART:20271107T060000
END:STANDARD
BEGIN:DAYLIGHT
TZOFFSETFROM:-0500
TZOFFSETTO:-0400
TZNAME:EDT
DTSTART:20280312T070000
END:DAYLIGHT
BEGIN:STANDARD
TZOFFSETFROM:-0400
TZOFFSETTO:-0500
TZNAME:EST
DTSTART:20281105T060000
END:STANDARD
END:VTIMEZONE
BEGIN:VEVENT
DTSTART;TZID=America/New_York:20270417T150000
DTEND;TZID=America/New_York:20270417T160000
DTSTAMP:20260423T044326
CREATED:20251124T214607Z
LAST-MODIFIED:20251124T214907Z
UID:10001694-1807974000-1807977600@www.deerislandcc.com
SUMMARY:⛳ Kids Golf Camp (Ages 6-17)
DESCRIPTION:Looking for the perfect weekend activity for your kids or grandkids? \nSign them up for kid’s golf lessons with Brian Davis Golf Academy at Deer Island Golf Club!For just $30 per session\, kids ages 6-17 can attend\, where they will learn fundamentals and build confidence\, all while keeping things FUN. Whether they’re brand new or already love the game\, our instructors will help them grow and improve each week! \n**See booking link for available dates**
URL:https://www.deerislandcc.com/event/%e2%9b%b3-kids-golf-camp-ages-6-17/2027-04-17/
LOCATION:The Clubhouse\, 18000 Eagles Way\, Tavares\, FL\, 32778\, United States
END:VEVENT
BEGIN:VEVENT
DTSTART;TZID=America/New_York:20270418T090000
DTEND;TZID=America/New_York:20270418T130000
DTSTAMP:20260423T044326
CREATED:20251124T203225Z
LAST-MODIFIED:20251124T203225Z
UID:10001411-1808038800-1808053200@www.deerislandcc.com
SUMMARY:🥞 Sunday Brunch
DESCRIPTION:Every Sunday | Adults $19.95 | Children (ages 3–12) $9.95 \nMake your Sunday mornings delicious with our all-you-can-eat brunch buffet\, featuring classic favorites and indulgent options for the whole family. \nClassic Food Options: \n\n\nScrambled Eggs \n\n\nBacon & Sausage Patties \n\n\nCheese Grits \n\n\nBiscuits & Gravy \n\n\nBreakfast Potatoes \n\n\nSeasonal Fruit \n\n\nWaffles & Fried Chicken \n\n\nToast (Strawberry or Grape Jelly) \n\n\nCroissants & English Muffins \n\n\nDonuts (Glazed\, Plain\, or Cinnamon) \n\n\nDrink Options: \n\n\nBottomless Mimosas 🍊🥂 \n\n\nCoffee \n\n\nCranberry Juice \n\n\nOrange Juice \n\n\nMilk \n\n\nBring the family\, relax\, and enjoy a hearty Sunday brunch at 19th Wave—great food\, refreshing drinks\, and a perfect way to start the day!
URL:https://www.deerislandcc.com/event/%f0%9f%a5%9e-sunday-brunch/2027-04-18/
LOCATION:FL
END:VEVENT
BEGIN:VEVENT
DTSTART;TZID=America/New_York:20270420T160000
DTEND;TZID=America/New_York:20270420T200000
DTSTAMP:20260423T044326
CREATED:20251124T201352Z
LAST-MODIFIED:20251124T201451Z
UID:10000090-1808236800-1808251200@www.deerislandcc.com
SUMMARY:🌮 Taco Tuesday
DESCRIPTION:Join us every Tuesday for the best midweek fiesta around! Enjoy 3 delicious tacos for just $13.98\, or a la carte for $5 each. Craving something lighter? Try our fresh and flavorful Tostada Salad for $15.98. \nAnd because no Taco Tuesday is complete without a drink…Enjoy a FREE margarita with any taco entrée purchase! 🍹 \nBring your friends\, bring your appetite\, and make Tuesday your tastiest day of the week!
URL:https://www.deerislandcc.com/event/taco-tuesday/2027-04-20/
LOCATION:19th Wave Restaurant\, 18000 Eagles Way\, Tavares\, FL\, 32778\, United States
END:VEVENT
BEGIN:VEVENT
DTSTART;TZID=America/New_York:20270422T170000
DTEND;TZID=America/New_York:20270422T200000
DTSTAMP:20260423T044326
CREATED:20251124T201642Z
LAST-MODIFIED:20251204T194644Z
UID:10002076-1808413200-1808424000@www.deerislandcc.com
SUMMARY:🐟 Fish Fry
DESCRIPTION:Kick off your evening with our delicious Fish Fry special—crispy\, golden\, and cooked fresh to order. Served with classic sides and unbeatable flavor\, it’s the perfect way to enjoy a Thursday night at 19th Wave. \nBring your friends\, family\, or golfing buddies and make it a weekly tradition!
URL:https://www.deerislandcc.com/event/%f0%9f%90%9f-fish-fry/2027-04-22/
LOCATION:19th Wave Restaurant\, 18000 Eagles Way\, Tavares\, FL\, 32778\, United States
END:VEVENT
BEGIN:VEVENT
DTSTART;TZID=America/New_York:20270423T160000
DTEND;TZID=America/New_York:20270423T200000
DTSTAMP:20260423T044326
CREATED:20251124T201814Z
LAST-MODIFIED:20251124T201814Z
UID:10000611-1808496000-1808510400@www.deerislandcc.com
SUMMARY:🍻 Happy Hour
DESCRIPTION:Kick off the weekend with unbeatable drink and food specials! Enjoy:• $2.25 draft beer• $4 house wine• Discounted appetizers• And more great deals all evening long! \nRelax\, unwind\, and start your Friday the right way at 19th Wave—great drinks\, great food\, great vibes.
URL:https://www.deerislandcc.com/event/%f0%9f%8d%bb-happy-hour/2027-04-23/
LOCATION:19th Wave Restaurant\, 18000 Eagles Way\, Tavares\, FL\, 32778\, United States
END:VEVENT
BEGIN:VEVENT
DTSTART;TZID=America/New_York:20270424T150000
DTEND;TZID=America/New_York:20270424T160000
DTSTAMP:20260423T044326
CREATED:20251124T214607Z
LAST-MODIFIED:20251124T214907Z
UID:10001695-1808578800-1808582400@www.deerislandcc.com
SUMMARY:⛳ Kids Golf Camp (Ages 6-17)
DESCRIPTION:Looking for the perfect weekend activity for your kids or grandkids? \nSign them up for kid’s golf lessons with Brian Davis Golf Academy at Deer Island Golf Club!For just $30 per session\, kids ages 6-17 can attend\, where they will learn fundamentals and build confidence\, all while keeping things FUN. Whether they’re brand new or already love the game\, our instructors will help them grow and improve each week! \n**See booking link for available dates**
URL:https://www.deerislandcc.com/event/%e2%9b%b3-kids-golf-camp-ages-6-17/2027-04-24/
LOCATION:The Clubhouse\, 18000 Eagles Way\, Tavares\, FL\, 32778\, United States
END:VEVENT
BEGIN:VEVENT
DTSTART;TZID=America/New_York:20270425T090000
DTEND;TZID=America/New_York:20270425T130000
DTSTAMP:20260423T044326
CREATED:20251124T203225Z
LAST-MODIFIED:20251124T203225Z
UID:10001412-1808643600-1808658000@www.deerislandcc.com
SUMMARY:🥞 Sunday Brunch
DESCRIPTION:Every Sunday | Adults $19.95 | Children (ages 3–12) $9.95 \nMake your Sunday mornings delicious with our all-you-can-eat brunch buffet\, featuring classic favorites and indulgent options for the whole family. \nClassic Food Options: \n\n\nScrambled Eggs \n\n\nBacon & Sausage Patties \n\n\nCheese Grits \n\n\nBiscuits & Gravy \n\n\nBreakfast Potatoes \n\n\nSeasonal Fruit \n\n\nWaffles & Fried Chicken \n\n\nToast (Strawberry or Grape Jelly) \n\n\nCroissants & English Muffins \n\n\nDonuts (Glazed\, Plain\, or Cinnamon) \n\n\nDrink Options: \n\n\nBottomless Mimosas 🍊🥂 \n\n\nCoffee \n\n\nCranberry Juice \n\n\nOrange Juice \n\n\nMilk \n\n\nBring the family\, relax\, and enjoy a hearty Sunday brunch at 19th Wave—great food\, refreshing drinks\, and a perfect way to start the day!
URL:https://www.deerislandcc.com/event/%f0%9f%a5%9e-sunday-brunch/2027-04-25/
LOCATION:FL
END:VEVENT
BEGIN:VEVENT
DTSTART;TZID=America/New_York:20270427T160000
DTEND;TZID=America/New_York:20270427T200000
DTSTAMP:20260423T044326
CREATED:20251124T201352Z
LAST-MODIFIED:20251124T201451Z
UID:10000091-1808841600-1808856000@www.deerislandcc.com
SUMMARY:🌮 Taco Tuesday
DESCRIPTION:Join us every Tuesday for the best midweek fiesta around! Enjoy 3 delicious tacos for just $13.98\, or a la carte for $5 each. Craving something lighter? Try our fresh and flavorful Tostada Salad for $15.98. \nAnd because no Taco Tuesday is complete without a drink…Enjoy a FREE margarita with any taco entrée purchase! 🍹 \nBring your friends\, bring your appetite\, and make Tuesday your tastiest day of the week!
URL:https://www.deerislandcc.com/event/taco-tuesday/2027-04-27/
LOCATION:19th Wave Restaurant\, 18000 Eagles Way\, Tavares\, FL\, 32778\, United States
END:VEVENT
BEGIN:VEVENT
DTSTART;TZID=America/New_York:20270428T170000
DTEND;TZID=America/New_York:20270428T200000
DTSTAMP:20260423T044326
CREATED:20260304T192301Z
LAST-MODIFIED:20260304T192301Z
UID:10002401-1808931600-1808942400@www.deerislandcc.com
SUMMARY:🍽️ Chef Inspired Dinner
DESCRIPTION:Experience an elevated evening at 19th Wave with our Chef Inspired Dinners\, featuring a thoughtfully crafted nightly special.  \nWhether you’re craving something new or a refined twist on a classic dish\, these curated dinners bring creativity\, fresh ingredients\, and unforgettable flavor to your midweek dining. \nMake it a monthly tradition—reserve your table and savor something special!
URL:https://www.deerislandcc.com/event/%f0%9f%8d%bd%ef%b8%8f-chef-inspired-dinner-4/2027-04-28/
LOCATION:FL
END:VEVENT
BEGIN:VEVENT
DTSTART;TZID=America/New_York:20270429T170000
DTEND;TZID=America/New_York:20270429T200000
DTSTAMP:20260423T044326
CREATED:20251124T201642Z
LAST-MODIFIED:20251204T194644Z
UID:10002077-1809018000-1809028800@www.deerislandcc.com
SUMMARY:🐟 Fish Fry
DESCRIPTION:Kick off your evening with our delicious Fish Fry special—crispy\, golden\, and cooked fresh to order. Served with classic sides and unbeatable flavor\, it’s the perfect way to enjoy a Thursday night at 19th Wave. \nBring your friends\, family\, or golfing buddies and make it a weekly tradition!
URL:https://www.deerislandcc.com/event/%f0%9f%90%9f-fish-fry/2027-04-29/
LOCATION:19th Wave Restaurant\, 18000 Eagles Way\, Tavares\, FL\, 32778\, United States
END:VEVENT
BEGIN:VEVENT
DTSTART;TZID=America/New_York:20270430T160000
DTEND;TZID=America/New_York:20270430T200000
DTSTAMP:20260423T044326
CREATED:20251124T201814Z
LAST-MODIFIED:20251124T201814Z
UID:10000612-1809100800-1809115200@www.deerislandcc.com
SUMMARY:🍻 Happy Hour
DESCRIPTION:Kick off the weekend with unbeatable drink and food specials! Enjoy:• $2.25 draft beer• $4 house wine• Discounted appetizers• And more great deals all evening long! \nRelax\, unwind\, and start your Friday the right way at 19th Wave—great drinks\, great food\, great vibes.
URL:https://www.deerislandcc.com/event/%f0%9f%8d%bb-happy-hour/2027-04-30/
LOCATION:19th Wave Restaurant\, 18000 Eagles Way\, Tavares\, FL\, 32778\, United States
END:VEVENT
BEGIN:VEVENT
DTSTART;TZID=America/New_York:20270501T150000
DTEND;TZID=America/New_York:20270501T160000
DTSTAMP:20260423T044326
CREATED:20251124T214607Z
LAST-MODIFIED:20251124T214907Z
UID:10001696-1809183600-1809187200@www.deerislandcc.com
SUMMARY:⛳ Kids Golf Camp (Ages 6-17)
DESCRIPTION:Looking for the perfect weekend activity for your kids or grandkids? \nSign them up for kid’s golf lessons with Brian Davis Golf Academy at Deer Island Golf Club!For just $30 per session\, kids ages 6-17 can attend\, where they will learn fundamentals and build confidence\, all while keeping things FUN. Whether they’re brand new or already love the game\, our instructors will help them grow and improve each week! \n**See booking link for available dates**
URL:https://www.deerislandcc.com/event/%e2%9b%b3-kids-golf-camp-ages-6-17/2027-05-01/
LOCATION:The Clubhouse\, 18000 Eagles Way\, Tavares\, FL\, 32778\, United States
END:VEVENT
BEGIN:VEVENT
DTSTART;TZID=America/New_York:20270502T090000
DTEND;TZID=America/New_York:20270502T130000
DTSTAMP:20260423T044326
CREATED:20251124T203225Z
LAST-MODIFIED:20251124T203225Z
UID:10001413-1809248400-1809262800@www.deerislandcc.com
SUMMARY:🥞 Sunday Brunch
DESCRIPTION:Every Sunday | Adults $19.95 | Children (ages 3–12) $9.95 \nMake your Sunday mornings delicious with our all-you-can-eat brunch buffet\, featuring classic favorites and indulgent options for the whole family. \nClassic Food Options: \n\n\nScrambled Eggs \n\n\nBacon & Sausage Patties \n\n\nCheese Grits \n\n\nBiscuits & Gravy \n\n\nBreakfast Potatoes \n\n\nSeasonal Fruit \n\n\nWaffles & Fried Chicken \n\n\nToast (Strawberry or Grape Jelly) \n\n\nCroissants & English Muffins \n\n\nDonuts (Glazed\, Plain\, or Cinnamon) \n\n\nDrink Options: \n\n\nBottomless Mimosas 🍊🥂 \n\n\nCoffee \n\n\nCranberry Juice \n\n\nOrange Juice \n\n\nMilk \n\n\nBring the family\, relax\, and enjoy a hearty Sunday brunch at 19th Wave—great food\, refreshing drinks\, and a perfect way to start the day!
URL:https://www.deerislandcc.com/event/%f0%9f%a5%9e-sunday-brunch/2027-05-02/
LOCATION:FL
END:VEVENT
BEGIN:VEVENT
DTSTART;TZID=America/New_York:20270504T160000
DTEND;TZID=America/New_York:20270504T200000
DTSTAMP:20260423T044326
CREATED:20251124T201352Z
LAST-MODIFIED:20251124T201451Z
UID:10000092-1809446400-1809460800@www.deerislandcc.com
SUMMARY:🌮 Taco Tuesday
DESCRIPTION:Join us every Tuesday for the best midweek fiesta around! Enjoy 3 delicious tacos for just $13.98\, or a la carte for $5 each. Craving something lighter? Try our fresh and flavorful Tostada Salad for $15.98. \nAnd because no Taco Tuesday is complete without a drink…Enjoy a FREE margarita with any taco entrée purchase! 🍹 \nBring your friends\, bring your appetite\, and make Tuesday your tastiest day of the week!
URL:https://www.deerislandcc.com/event/taco-tuesday/2027-05-04/
LOCATION:19th Wave Restaurant\, 18000 Eagles Way\, Tavares\, FL\, 32778\, United States
END:VEVENT
BEGIN:VEVENT
DTSTART;TZID=America/New_York:20270506T170000
DTEND;TZID=America/New_York:20270506T200000
DTSTAMP:20260423T044326
CREATED:20251124T201642Z
LAST-MODIFIED:20251204T194644Z
UID:10002078-1809622800-1809633600@www.deerislandcc.com
SUMMARY:🐟 Fish Fry
DESCRIPTION:Kick off your evening with our delicious Fish Fry special—crispy\, golden\, and cooked fresh to order. Served with classic sides and unbeatable flavor\, it’s the perfect way to enjoy a Thursday night at 19th Wave. \nBring your friends\, family\, or golfing buddies and make it a weekly tradition!
URL:https://www.deerislandcc.com/event/%f0%9f%90%9f-fish-fry/2027-05-06/
LOCATION:19th Wave Restaurant\, 18000 Eagles Way\, Tavares\, FL\, 32778\, United States
END:VEVENT
BEGIN:VEVENT
DTSTART;TZID=America/New_York:20270507T160000
DTEND;TZID=America/New_York:20270507T200000
DTSTAMP:20260423T044326
CREATED:20251124T201814Z
LAST-MODIFIED:20251124T201814Z
UID:10000613-1809705600-1809720000@www.deerislandcc.com
SUMMARY:🍻 Happy Hour
DESCRIPTION:Kick off the weekend with unbeatable drink and food specials! Enjoy:• $2.25 draft beer• $4 house wine• Discounted appetizers• And more great deals all evening long! \nRelax\, unwind\, and start your Friday the right way at 19th Wave—great drinks\, great food\, great vibes.
URL:https://www.deerislandcc.com/event/%f0%9f%8d%bb-happy-hour/2027-05-07/
LOCATION:19th Wave Restaurant\, 18000 Eagles Way\, Tavares\, FL\, 32778\, United States
END:VEVENT
BEGIN:VEVENT
DTSTART;TZID=America/New_York:20270508T150000
DTEND;TZID=America/New_York:20270508T160000
DTSTAMP:20260423T044326
CREATED:20251124T214607Z
LAST-MODIFIED:20251124T214907Z
UID:10001697-1809788400-1809792000@www.deerislandcc.com
SUMMARY:⛳ Kids Golf Camp (Ages 6-17)
DESCRIPTION:Looking for the perfect weekend activity for your kids or grandkids? \nSign them up for kid’s golf lessons with Brian Davis Golf Academy at Deer Island Golf Club!For just $30 per session\, kids ages 6-17 can attend\, where they will learn fundamentals and build confidence\, all while keeping things FUN. Whether they’re brand new or already love the game\, our instructors will help them grow and improve each week! \n**See booking link for available dates**
URL:https://www.deerislandcc.com/event/%e2%9b%b3-kids-golf-camp-ages-6-17/2027-05-08/
LOCATION:The Clubhouse\, 18000 Eagles Way\, Tavares\, FL\, 32778\, United States
END:VEVENT
BEGIN:VEVENT
DTSTART;TZID=America/New_York:20270509T090000
DTEND;TZID=America/New_York:20270509T130000
DTSTAMP:20260423T044326
CREATED:20251124T203225Z
LAST-MODIFIED:20251124T203225Z
UID:10001414-1809853200-1809867600@www.deerislandcc.com
SUMMARY:🥞 Sunday Brunch
DESCRIPTION:Every Sunday | Adults $19.95 | Children (ages 3–12) $9.95 \nMake your Sunday mornings delicious with our all-you-can-eat brunch buffet\, featuring classic favorites and indulgent options for the whole family. \nClassic Food Options: \n\n\nScrambled Eggs \n\n\nBacon & Sausage Patties \n\n\nCheese Grits \n\n\nBiscuits & Gravy \n\n\nBreakfast Potatoes \n\n\nSeasonal Fruit \n\n\nWaffles & Fried Chicken \n\n\nToast (Strawberry or Grape Jelly) \n\n\nCroissants & English Muffins \n\n\nDonuts (Glazed\, Plain\, or Cinnamon) \n\n\nDrink Options: \n\n\nBottomless Mimosas 🍊🥂 \n\n\nCoffee \n\n\nCranberry Juice \n\n\nOrange Juice \n\n\nMilk \n\n\nBring the family\, relax\, and enjoy a hearty Sunday brunch at 19th Wave—great food\, refreshing drinks\, and a perfect way to start the day!
URL:https://www.deerislandcc.com/event/%f0%9f%a5%9e-sunday-brunch/2027-05-09/
LOCATION:FL
END:VEVENT
BEGIN:VEVENT
DTSTART;TZID=America/New_York:20270511T160000
DTEND;TZID=America/New_York:20270511T200000
DTSTAMP:20260423T044326
CREATED:20251124T201352Z
LAST-MODIFIED:20251124T201451Z
UID:10000093-1810051200-1810065600@www.deerislandcc.com
SUMMARY:🌮 Taco Tuesday
DESCRIPTION:Join us every Tuesday for the best midweek fiesta around! Enjoy 3 delicious tacos for just $13.98\, or a la carte for $5 each. Craving something lighter? Try our fresh and flavorful Tostada Salad for $15.98. \nAnd because no Taco Tuesday is complete without a drink…Enjoy a FREE margarita with any taco entrée purchase! 🍹 \nBring your friends\, bring your appetite\, and make Tuesday your tastiest day of the week!
URL:https://www.deerislandcc.com/event/taco-tuesday/2027-05-11/
LOCATION:19th Wave Restaurant\, 18000 Eagles Way\, Tavares\, FL\, 32778\, United States
END:VEVENT
BEGIN:VEVENT
DTSTART;TZID=America/New_York:20270512T170000
DTEND;TZID=America/New_York:20270512T200000
DTSTAMP:20260423T044326
CREATED:20251124T202739Z
LAST-MODIFIED:20251204T194731Z
UID:10002280-1810141200-1810152000@www.deerislandcc.com
SUMMARY:🍽️ Chef Inspired Dinner
DESCRIPTION:Experience an elevated evening at 19th Wave with our Chef Inspired Dinners\, featuring a thoughtfully crafted nightly special.  \nWhether you’re craving something new or a refined twist on a classic dish\, these curated dinners bring creativity\, fresh ingredients\, and unforgettable flavor to your midweek dining. \nMake it a monthly tradition—reserve your table and savor something special!
URL:https://www.deerislandcc.com/event/%f0%9f%8d%bd%ef%b8%8f-chef-inspired-dinner/2027-05-12/
LOCATION:FL
END:VEVENT
BEGIN:VEVENT
DTSTART;TZID=America/New_York:20270513T170000
DTEND;TZID=America/New_York:20270513T200000
DTSTAMP:20260423T044326
CREATED:20251124T201642Z
LAST-MODIFIED:20251204T194644Z
UID:10002079-1810227600-1810238400@www.deerislandcc.com
SUMMARY:🐟 Fish Fry
DESCRIPTION:Kick off your evening with our delicious Fish Fry special—crispy\, golden\, and cooked fresh to order. Served with classic sides and unbeatable flavor\, it’s the perfect way to enjoy a Thursday night at 19th Wave. \nBring your friends\, family\, or golfing buddies and make it a weekly tradition!
URL:https://www.deerislandcc.com/event/%f0%9f%90%9f-fish-fry/2027-05-13/
LOCATION:19th Wave Restaurant\, 18000 Eagles Way\, Tavares\, FL\, 32778\, United States
END:VEVENT
BEGIN:VEVENT
DTSTART;TZID=America/New_York:20270514T160000
DTEND;TZID=America/New_York:20270514T200000
DTSTAMP:20260423T044326
CREATED:20251124T201814Z
LAST-MODIFIED:20251124T201814Z
UID:10000614-1810310400-1810324800@www.deerislandcc.com
SUMMARY:🍻 Happy Hour
DESCRIPTION:Kick off the weekend with unbeatable drink and food specials! Enjoy:• $2.25 draft beer• $4 house wine• Discounted appetizers• And more great deals all evening long! \nRelax\, unwind\, and start your Friday the right way at 19th Wave—great drinks\, great food\, great vibes.
URL:https://www.deerislandcc.com/event/%f0%9f%8d%bb-happy-hour/2027-05-14/
LOCATION:19th Wave Restaurant\, 18000 Eagles Way\, Tavares\, FL\, 32778\, United States
END:VEVENT
BEGIN:VEVENT
DTSTART;TZID=America/New_York:20270515T150000
DTEND;TZID=America/New_York:20270515T160000
DTSTAMP:20260423T044326
CREATED:20251124T214607Z
LAST-MODIFIED:20251124T214907Z
UID:10001698-1810393200-1810396800@www.deerislandcc.com
SUMMARY:⛳ Kids Golf Camp (Ages 6-17)
DESCRIPTION:Looking for the perfect weekend activity for your kids or grandkids? \nSign them up for kid’s golf lessons with Brian Davis Golf Academy at Deer Island Golf Club!For just $30 per session\, kids ages 6-17 can attend\, where they will learn fundamentals and build confidence\, all while keeping things FUN. Whether they’re brand new or already love the game\, our instructors will help them grow and improve each week! \n**See booking link for available dates**
URL:https://www.deerislandcc.com/event/%e2%9b%b3-kids-golf-camp-ages-6-17/2027-05-15/
LOCATION:The Clubhouse\, 18000 Eagles Way\, Tavares\, FL\, 32778\, United States
END:VEVENT
BEGIN:VEVENT
DTSTART;TZID=America/New_York:20270516T090000
DTEND;TZID=America/New_York:20270516T130000
DTSTAMP:20260423T044326
CREATED:20251124T203225Z
LAST-MODIFIED:20251124T203225Z
UID:10001415-1810458000-1810472400@www.deerislandcc.com
SUMMARY:🥞 Sunday Brunch
DESCRIPTION:Every Sunday | Adults $19.95 | Children (ages 3–12) $9.95 \nMake your Sunday mornings delicious with our all-you-can-eat brunch buffet\, featuring classic favorites and indulgent options for the whole family. \nClassic Food Options: \n\n\nScrambled Eggs \n\n\nBacon & Sausage Patties \n\n\nCheese Grits \n\n\nBiscuits & Gravy \n\n\nBreakfast Potatoes \n\n\nSeasonal Fruit \n\n\nWaffles & Fried Chicken \n\n\nToast (Strawberry or Grape Jelly) \n\n\nCroissants & English Muffins \n\n\nDonuts (Glazed\, Plain\, or Cinnamon) \n\n\nDrink Options: \n\n\nBottomless Mimosas 🍊🥂 \n\n\nCoffee \n\n\nCranberry Juice \n\n\nOrange Juice \n\n\nMilk \n\n\nBring the family\, relax\, and enjoy a hearty Sunday brunch at 19th Wave—great food\, refreshing drinks\, and a perfect way to start the day!
URL:https://www.deerislandcc.com/event/%f0%9f%a5%9e-sunday-brunch/2027-05-16/
LOCATION:FL
END:VEVENT
BEGIN:VEVENT
DTSTART;TZID=America/New_York:20270518T160000
DTEND;TZID=America/New_York:20270518T200000
DTSTAMP:20260423T044326
CREATED:20251124T201352Z
LAST-MODIFIED:20251124T201451Z
UID:10000094-1810656000-1810670400@www.deerislandcc.com
SUMMARY:🌮 Taco Tuesday
DESCRIPTION:Join us every Tuesday for the best midweek fiesta around! Enjoy 3 delicious tacos for just $13.98\, or a la carte for $5 each. Craving something lighter? Try our fresh and flavorful Tostada Salad for $15.98. \nAnd because no Taco Tuesday is complete without a drink…Enjoy a FREE margarita with any taco entrée purchase! 🍹 \nBring your friends\, bring your appetite\, and make Tuesday your tastiest day of the week!
URL:https://www.deerislandcc.com/event/taco-tuesday/2027-05-18/
LOCATION:19th Wave Restaurant\, 18000 Eagles Way\, Tavares\, FL\, 32778\, United States
END:VEVENT
BEGIN:VEVENT
DTSTART;TZID=America/New_York:20270520T170000
DTEND;TZID=America/New_York:20270520T200000
DTSTAMP:20260423T044326
CREATED:20251124T201642Z
LAST-MODIFIED:20251204T194644Z
UID:10002080-1810832400-1810843200@www.deerislandcc.com
SUMMARY:🐟 Fish Fry
DESCRIPTION:Kick off your evening with our delicious Fish Fry special—crispy\, golden\, and cooked fresh to order. Served with classic sides and unbeatable flavor\, it’s the perfect way to enjoy a Thursday night at 19th Wave. \nBring your friends\, family\, or golfing buddies and make it a weekly tradition!
URL:https://www.deerislandcc.com/event/%f0%9f%90%9f-fish-fry/2027-05-20/
LOCATION:19th Wave Restaurant\, 18000 Eagles Way\, Tavares\, FL\, 32778\, United States
END:VEVENT
BEGIN:VEVENT
DTSTART;TZID=America/New_York:20270521T160000
DTEND;TZID=America/New_York:20270521T200000
DTSTAMP:20260423T044326
CREATED:20251124T201814Z
LAST-MODIFIED:20251124T201814Z
UID:10000615-1810915200-1810929600@www.deerislandcc.com
SUMMARY:🍻 Happy Hour
DESCRIPTION:Kick off the weekend with unbeatable drink and food specials! Enjoy:• $2.25 draft beer• $4 house wine• Discounted appetizers• And more great deals all evening long! \nRelax\, unwind\, and start your Friday the right way at 19th Wave—great drinks\, great food\, great vibes.
URL:https://www.deerislandcc.com/event/%f0%9f%8d%bb-happy-hour/2027-05-21/
LOCATION:19th Wave Restaurant\, 18000 Eagles Way\, Tavares\, FL\, 32778\, United States
END:VEVENT
BEGIN:VEVENT
DTSTART;TZID=America/New_York:20270522T150000
DTEND;TZID=America/New_York:20270522T160000
DTSTAMP:20260423T044326
CREATED:20251124T214607Z
LAST-MODIFIED:20251124T214907Z
UID:10001699-1810998000-1811001600@www.deerislandcc.com
SUMMARY:⛳ Kids Golf Camp (Ages 6-17)
DESCRIPTION:Looking for the perfect weekend activity for your kids or grandkids? \nSign them up for kid’s golf lessons with Brian Davis Golf Academy at Deer Island Golf Club!For just $30 per session\, kids ages 6-17 can attend\, where they will learn fundamentals and build confidence\, all while keeping things FUN. Whether they’re brand new or already love the game\, our instructors will help them grow and improve each week! \n**See booking link for available dates**
URL:https://www.deerislandcc.com/event/%e2%9b%b3-kids-golf-camp-ages-6-17/2027-05-22/
LOCATION:The Clubhouse\, 18000 Eagles Way\, Tavares\, FL\, 32778\, United States
END:VEVENT
BEGIN:VEVENT
DTSTART;TZID=America/New_York:20270523T090000
DTEND;TZID=America/New_York:20270523T130000
DTSTAMP:20260423T044326
CREATED:20251124T203225Z
LAST-MODIFIED:20251124T203225Z
UID:10001416-1811062800-1811077200@www.deerislandcc.com
SUMMARY:🥞 Sunday Brunch
DESCRIPTION:Every Sunday | Adults $19.95 | Children (ages 3–12) $9.95 \nMake your Sunday mornings delicious with our all-you-can-eat brunch buffet\, featuring classic favorites and indulgent options for the whole family. \nClassic Food Options: \n\n\nScrambled Eggs \n\n\nBacon & Sausage Patties \n\n\nCheese Grits \n\n\nBiscuits & Gravy \n\n\nBreakfast Potatoes \n\n\nSeasonal Fruit \n\n\nWaffles & Fried Chicken \n\n\nToast (Strawberry or Grape Jelly) \n\n\nCroissants & English Muffins \n\n\nDonuts (Glazed\, Plain\, or Cinnamon) \n\n\nDrink Options: \n\n\nBottomless Mimosas 🍊🥂 \n\n\nCoffee \n\n\nCranberry Juice \n\n\nOrange Juice \n\n\nMilk \n\n\nBring the family\, relax\, and enjoy a hearty Sunday brunch at 19th Wave—great food\, refreshing drinks\, and a perfect way to start the day!
URL:https://www.deerislandcc.com/event/%f0%9f%a5%9e-sunday-brunch/2027-05-23/
LOCATION:FL
END:VEVENT
BEGIN:VEVENT
DTSTART;TZID=America/New_York:20270525T160000
DTEND;TZID=America/New_York:20270525T200000
DTSTAMP:20260423T044326
CREATED:20251124T201352Z
LAST-MODIFIED:20251124T201451Z
UID:10000095-1811260800-1811275200@www.deerislandcc.com
SUMMARY:🌮 Taco Tuesday
DESCRIPTION:Join us every Tuesday for the best midweek fiesta around! Enjoy 3 delicious tacos for just $13.98\, or a la carte for $5 each. Craving something lighter? Try our fresh and flavorful Tostada Salad for $15.98. \nAnd because no Taco Tuesday is complete without a drink…Enjoy a FREE margarita with any taco entrée purchase! 🍹 \nBring your friends\, bring your appetite\, and make Tuesday your tastiest day of the week!
URL:https://www.deerislandcc.com/event/taco-tuesday/2027-05-25/
LOCATION:19th Wave Restaurant\, 18000 Eagles Way\, Tavares\, FL\, 32778\, United States
END:VEVENT
END:VCALENDAR