BEGIN:VCALENDAR
VERSION:2.0
PRODID:-//Deer Island Country Club - ECPv6.15.18//NONSGML v1.0//EN
CALSCALE:GREGORIAN
METHOD:PUBLISH
X-ORIGINAL-URL:https://www.deerislandcc.com
X-WR-CALDESC:Events for Deer Island Country Club
REFRESH-INTERVAL;VALUE=DURATION:PT1H
X-Robots-Tag:noindex
X-PUBLISHED-TTL:PT1H
BEGIN:VTIMEZONE
TZID:America/New_York
BEGIN:DAYLIGHT
TZOFFSETFROM:-0500
TZOFFSETTO:-0400
TZNAME:EDT
DTSTART:20250309T070000
END:DAYLIGHT
BEGIN:STANDARD
TZOFFSETFROM:-0400
TZOFFSETTO:-0500
TZNAME:EST
DTSTART:20251102T060000
END:STANDARD
BEGIN:DAYLIGHT
TZOFFSETFROM:-0500
TZOFFSETTO:-0400
TZNAME:EDT
DTSTART:20260308T070000
END:DAYLIGHT
BEGIN:STANDARD
TZOFFSETFROM:-0400
TZOFFSETTO:-0500
TZNAME:EST
DTSTART:20261101T060000
END:STANDARD
BEGIN:DAYLIGHT
TZOFFSETFROM:-0500
TZOFFSETTO:-0400
TZNAME:EDT
DTSTART:20270314T070000
END:DAYLIGHT
BEGIN:STANDARD
TZOFFSETFROM:-0400
TZOFFSETTO:-0500
TZNAME:EST
DTSTART:20271107T060000
END:STANDARD
END:VTIMEZONE
BEGIN:VEVENT
DTSTART;TZID=America/New_York:20260422T170000
DTEND;TZID=America/New_York:20260422T200000
DTSTAMP:20260421T084611
CREATED:20260304T192301Z
LAST-MODIFIED:20260304T192301Z
UID:10002389-1776877200-1776888000@www.deerislandcc.com
SUMMARY:🍽️ Chef Inspired Dinner
DESCRIPTION:Experience an elevated evening at 19th Wave with our Chef Inspired Dinners\, featuring a thoughtfully crafted nightly special.  \nWhether you’re craving something new or a refined twist on a classic dish\, these curated dinners bring creativity\, fresh ingredients\, and unforgettable flavor to your midweek dining. \nMake it a monthly tradition—reserve your table and savor something special!
URL:https://www.deerislandcc.com/event/%f0%9f%8d%bd%ef%b8%8f-chef-inspired-dinner-4/2026-04-22/
LOCATION:FL
END:VEVENT
END:VCALENDAR