BEGIN:VCALENDAR
VERSION:2.0
PRODID:-//Deer Island Country Club - ECPv6.15.18//NONSGML v1.0//EN
CALSCALE:GREGORIAN
METHOD:PUBLISH
X-WR-CALNAME:Deer Island Country Club
X-ORIGINAL-URL:https://www.deerislandcc.com
X-WR-CALDESC:Events for Deer Island Country Club
REFRESH-INTERVAL;VALUE=DURATION:PT1H
X-Robots-Tag:noindex
X-PUBLISHED-TTL:PT1H
BEGIN:VTIMEZONE
TZID:America/New_York
BEGIN:DAYLIGHT
TZOFFSETFROM:-0500
TZOFFSETTO:-0400
TZNAME:EDT
DTSTART:20250309T070000
END:DAYLIGHT
BEGIN:STANDARD
TZOFFSETFROM:-0400
TZOFFSETTO:-0500
TZNAME:EST
DTSTART:20251102T060000
END:STANDARD
BEGIN:DAYLIGHT
TZOFFSETFROM:-0500
TZOFFSETTO:-0400
TZNAME:EDT
DTSTART:20260308T070000
END:DAYLIGHT
BEGIN:STANDARD
TZOFFSETFROM:-0400
TZOFFSETTO:-0500
TZNAME:EST
DTSTART:20261101T060000
END:STANDARD
BEGIN:DAYLIGHT
TZOFFSETFROM:-0500
TZOFFSETTO:-0400
TZNAME:EDT
DTSTART:20270314T070000
END:DAYLIGHT
BEGIN:STANDARD
TZOFFSETFROM:-0400
TZOFFSETTO:-0500
TZNAME:EST
DTSTART:20271107T060000
END:STANDARD
END:VTIMEZONE
BEGIN:VEVENT
DTSTART;TZID=America/New_York:20260311T170000
DTEND;TZID=America/New_York:20260311T200000
DTSTAMP:20260423T042557
CREATED:20251124T202739Z
LAST-MODIFIED:20251204T194731Z
UID:10002266-1773248400-1773259200@www.deerislandcc.com
SUMMARY:🍽️ Chef Inspired Dinner
DESCRIPTION:Experience an elevated evening at 19th Wave with our Chef Inspired Dinners\, featuring a thoughtfully crafted nightly special.  \nWhether you’re craving something new or a refined twist on a classic dish\, these curated dinners bring creativity\, fresh ingredients\, and unforgettable flavor to your midweek dining. \nMake it a monthly tradition—reserve your table and savor something special!
URL:https://www.deerislandcc.com/event/%f0%9f%8d%bd%ef%b8%8f-chef-inspired-dinner/2026-03-11/
LOCATION:FL
END:VEVENT
BEGIN:VEVENT
DTSTART;TZID=America/New_York:20260311T183000
DTEND;TZID=America/New_York:20260311T203000
DTSTAMP:20260423T042557
CREATED:20260304T192745Z
LAST-MODIFIED:20260304T192745Z
UID:10002449-1773253800-1773261000@www.deerislandcc.com
SUMMARY:🪴 Craft & Sip Class - Sea Glass Succulents
DESCRIPTION:🌊🌿 Sea Glass Succulents @ Deer Island Golf Club 🌿🌊 \nJoin us for a relaxing and creative evening at Deer Island Golf Club as we bring the beauty of the coast indoors with Sea Glass Succulents—one of our most-loved mixed-media projects! ✨ \nIn this hands-on workshop\, you’ll design a charming succulent arrangement using real sea glass\, ceramic pieces\, and specialty materials to create a piece that sparkles and shines from every angle 💎🌱\nEach succulent is layered with texture\, color\, and a little coastal magic—no green thumb required! \nChoose to make:\n🌿 1 Sea Glass Succulent – $35\n🌿🌿 2 Sea Glass Succulents – $55 (keep one\, gift one… or keep both 😉)\n* Each person must have their own ticket\n🗓 Wednesday\, March 11th\n🕡 6:30–8:30pm\n📍 Deer Island Golf Club \n✨ All supplies included\n✨ Step-by-step guidance provided\n✨ No experience needed\n✨ Each piece turns out beautifully unique \nThis is a perfect night out with friends\, a creative date night\, or a peaceful midweek escape filled with good vibes\, creativity\, and coastal charm 🌊💙
URL:https://www.deerislandcc.com/event/%f0%9f%aa%b4-craft-sip-class-sea-glass-succulents/
LOCATION:The Clubhouse\, 18000 Eagles Way\, Tavares\, FL\, 32778\, United States
END:VEVENT
END:VCALENDAR