BEGIN:VCALENDAR
VERSION:2.0
PRODID:-//Deer Island Country Club - ECPv6.15.18//NONSGML v1.0//EN
CALSCALE:GREGORIAN
METHOD:PUBLISH
X-ORIGINAL-URL:https://www.deerislandcc.com
X-WR-CALDESC:Events for Deer Island Country Club
REFRESH-INTERVAL;VALUE=DURATION:PT1H
X-Robots-Tag:noindex
X-PUBLISHED-TTL:PT1H
BEGIN:VTIMEZONE
TZID:America/New_York
BEGIN:DAYLIGHT
TZOFFSETFROM:-0500
TZOFFSETTO:-0400
TZNAME:EDT
DTSTART:20250309T070000
END:DAYLIGHT
BEGIN:STANDARD
TZOFFSETFROM:-0400
TZOFFSETTO:-0500
TZNAME:EST
DTSTART:20251102T060000
END:STANDARD
BEGIN:DAYLIGHT
TZOFFSETFROM:-0500
TZOFFSETTO:-0400
TZNAME:EDT
DTSTART:20260308T070000
END:DAYLIGHT
BEGIN:STANDARD
TZOFFSETFROM:-0400
TZOFFSETTO:-0500
TZNAME:EST
DTSTART:20261101T060000
END:STANDARD
BEGIN:DAYLIGHT
TZOFFSETFROM:-0500
TZOFFSETTO:-0400
TZNAME:EDT
DTSTART:20270314T070000
END:DAYLIGHT
BEGIN:STANDARD
TZOFFSETFROM:-0400
TZOFFSETTO:-0500
TZNAME:EST
DTSTART:20271107T060000
END:STANDARD
END:VTIMEZONE
BEGIN:VEVENT
DTSTART;TZID=America/New_York:20260114T170000
DTEND;TZID=America/New_York:20260114T200000
DTSTAMP:20260421T084640
CREATED:20251204T194356Z
LAST-MODIFIED:20251204T194356Z
UID:10001161-1768410000-1768420800@www.deerislandcc.com
SUMMARY:🍽️ Chef Inspired Dinner
DESCRIPTION:Experience an elevated evening at 19th Wave with our Chef Inspired Dinners\, featuring a thoughtfully crafted nightly special.  \nWhether you’re craving something new or a refined twist on a classic dish\, these curated dinners bring creativity\, fresh ingredients\, and unforgettable flavor to your midweek dining. \nMake it a monthly tradition—reserve your table and savor something special!
URL:https://www.deerislandcc.com/event/%f0%9f%8d%bd%ef%b8%8f-chef-inspired-dinner-3/
LOCATION:FL
END:VEVENT
BEGIN:VEVENT
DTSTART;TZID=America/New_York:20260114T183000
DTEND;TZID=America/New_York:20260114T203000
DTSTAMP:20260421T084640
CREATED:20251218T204538Z
LAST-MODIFIED:20251218T204538Z
UID:10002323-1768415400-1768422600@www.deerislandcc.com
SUMMARY:🎨 Paint & Sip Night: Winter Walk
DESCRIPTION:Bundle up your creativity and join us for a magical winter-themed paint night at the beautiful Deer Island Golf Club! 🏌️‍♂️⛄️ \nWe’ll be painting Winter Walk\, a serene snowy landscape filled with frosty trees\, soft golden grasses\, and peaceful winter skies. 🌨️🌅 This relaxing scene is perfect for beginners AND seasoned artists — I’ll guide you step-by-step so you’ll leave with a canvas you’ll be proud to hang all season long! 💖🖼️ \n✨ What to expect:\n🎨 All supplies included\n🍷 Drinks + food available for purchase at 19th Wave Restaurant\n🖌️ A fun\, relaxed night out with friends\n❄️ A cozy winter vibe — no cold weather required! \nGrab your seat and let’s make something beautiful together! 🤍🌲✍️\nSpace is limited — sign up today!
URL:https://www.deerislandcc.com/event/%f0%9f%8e%a8-paint-sip-night-winter-walk/
LOCATION:FL
END:VEVENT
END:VCALENDAR